BEGIN:VCALENDAR
VERSION:2.0
PRODID:icalendar-ruby
CALSCALE:GREGORIAN
METHOD:PUBLISH
BEGIN:VEVENT
DTSTAMP:20260422T023345Z
UID:5-1236931@haverhillchurch.com
DTSTART:20261004T150000Z
DTEND:20261004T160000Z
CLASS:PUBLIC
CREATED:20260421T211148
DESCRIPTION:Sunday Worship
LAST-MODIFIED:20260421T211148
LOCATION:
SUMMARY:Sunday Worship
URL;VALUE=URI:https://www.haverhillchurch.com/events/sunday-worship/2026-10
 -04
END:VEVENT
END:VCALENDAR
