BEGIN:VCALENDAR
VERSION:2.0
PRODID:icalendar-ruby
CALSCALE:GREGORIAN
METHOD:PUBLISH
BEGIN:VEVENT
DTSTAMP:20260422T010657Z
UID:5-1236551@haverhillchurch.com
DTSTART:20260927T150000Z
DTEND:20260927T160000Z
CLASS:PUBLIC
CREATED:20260421T183257
DESCRIPTION:Sunday Worship
LAST-MODIFIED:20260421T183257
LOCATION:
SUMMARY:Sunday Worship
URL;VALUE=URI:https://www.haverhillchurch.com/events/sunday-worship/2026-09
 -27
END:VEVENT
END:VCALENDAR
