BEGIN:VCALENDAR
VERSION:2.0
PRODID:icalendar-ruby
CALSCALE:GREGORIAN
METHOD:PUBLISH
BEGIN:VEVENT
DTSTAMP:20260421T182627Z
UID:5-1235788@haverhillchurch.com
DTSTART:20260823T150000Z
DTEND:20260823T160000Z
CLASS:PUBLIC
CREATED:20260421T131841
DESCRIPTION:Sunday Worship
LAST-MODIFIED:20260421T131841
LOCATION:
SUMMARY:Sunday Worship
URL;VALUE=URI:https://www.haverhillchurch.com/events/sunday-worship/2026-08
 -23
END:VEVENT
END:VCALENDAR
