BEGIN:VCALENDAR
VERSION:2.0
PRODID:icalendar-ruby
CALSCALE:GREGORIAN
METHOD:PUBLISH
BEGIN:VEVENT
DTSTAMP:20260421T165602Z
UID:5-1235408@haverhillchurch.com
DTSTART:20260816T150000Z
DTEND:20260816T160000Z
CLASS:PUBLIC
CREATED:20260421T103900
DESCRIPTION:Sunday Worship
LAST-MODIFIED:20260421T103900
LOCATION:
SUMMARY:Sunday Worship
URL;VALUE=URI:https://www.haverhillchurch.com/events/sunday-worship/2026-08
 -16
END:VEVENT
END:VCALENDAR
