BEGIN:VCALENDAR
VERSION:2.0
PRODID:icalendar-ruby
CALSCALE:GREGORIAN
METHOD:PUBLISH
BEGIN:VEVENT
DTSTAMP:20260421T123612Z
UID:5-1235026@haverhillchurch.com
DTSTART:20260726T150000Z
DTEND:20260726T160000Z
CLASS:PUBLIC
CREATED:20260421T080328
DESCRIPTION:Sunday Worship
LAST-MODIFIED:20260421T080328
LOCATION:
SUMMARY:Sunday Worship
URL;VALUE=URI:https://www.haverhillchurch.com/events/sunday-worship/2026-07
 -26
END:VEVENT
END:VCALENDAR
