BEGIN:VCALENDAR
VERSION:2.0
PRODID:icalendar-ruby
CALSCALE:GREGORIAN
METHOD:PUBLISH
BEGIN:VEVENT
DTSTAMP:20260421T111558Z
UID:5-1234646@haverhillchurch.com
DTSTART:20260719T150000Z
DTEND:20260719T160000Z
CLASS:PUBLIC
CREATED:20260420T205644
DESCRIPTION:Sunday Worship
LAST-MODIFIED:20260420T205644
LOCATION:
SUMMARY:Sunday Worship
URL;VALUE=URI:https://www.haverhillchurch.com/events/sunday-worship/2026-07
 -19
END:VEVENT
END:VCALENDAR
